BEGIN:VCALENDAR
VERSION:2.0
PRODID:-//CAD-Ray.com - ECPv5.16.4//NONSGML v1.0//EN
CALSCALE:GREGORIAN
METHOD:PUBLISH
X-WR-CALNAME:CAD-Ray.com
X-ORIGINAL-URL:https://cad-ray-wp-core.cospark.io
X-WR-CALDESC:Events for CAD-Ray.com
REFRESH-INTERVAL;VALUE=DURATION:PT1H
X-Robots-Tag:noindex
X-PUBLISHED-TTL:PT1H
BEGIN:VTIMEZONE
TZID:America/Los_Angeles
BEGIN:DAYLIGHT
TZOFFSETFROM:-0800
TZOFFSETTO:-0700
TZNAME:PDT
DTSTART:20250309T100000
END:DAYLIGHT
BEGIN:STANDARD
TZOFFSETFROM:-0700
TZOFFSETTO:-0800
TZNAME:PST
DTSTART:20251102T090000
END:STANDARD
TZID:America/New_York
BEGIN:DAYLIGHT
TZOFFSETFROM:-0500
TZOFFSETTO:-0400
TZNAME:EDT
DTSTART:20250309T070000
END:DAYLIGHT
BEGIN:STANDARD
TZOFFSETFROM:-0400
TZOFFSETTO:-0500
TZNAME:EST
DTSTART:20251102T060000
END:STANDARD
END:VTIMEZONE
BEGIN:VEVENT
DTSTART;TZID=America/Los_Angeles:20250904T080000
DTEND;TZID=America/Los_Angeles:20250904T170000
DTSTAMP:20260421T044741
CREATED:20250717T004804Z
LAST-MODIFIED:20250717T004804Z
UID:141964-1756972800-1757005200@cad-ray-wp-core.cospark.io
SUMMARY:Private Event
DESCRIPTION:Please Share this:TweetWhatsAppRedditTelegramEmailPrintLike this:Like Loading...
URL:https://cad-ray-wp-core.cospark.io/event/private-event-4/
LOCATION:CAD-Ray Las Vegas Campus\, 8400 W Sunset Rd\, Suite 300\, Las Vegas\, NV\, 89113
CATEGORIES:Special Events
GEO:36.0711484;-115.2758342
X-APPLE-STRUCTURED-LOCATION;VALUE=URI;X-ADDRESS=CAD-Ray Las Vegas Campus 8400 W Sunset Rd Suite 300 Las Vegas NV 89113;X-APPLE-RADIUS=500;X-TITLE=8400 W Sunset Rd\, Suite 300:geo:-115.2758342,36.0711484
END:VEVENT
BEGIN:VEVENT
DTSTART;TZID=America/Los_Angeles:20250910T080000
DTEND;TZID=America/Los_Angeles:20250910T170000
DTSTAMP:20260421T044741
CREATED:20250717T004845Z
LAST-MODIFIED:20250717T004845Z
UID:141967-1757491200-1757523600@cad-ray-wp-core.cospark.io
SUMMARY:Private Event
DESCRIPTION:Please Share this:TweetWhatsAppRedditTelegramEmailPrintLike this:Like Loading...
URL:https://cad-ray-wp-core.cospark.io/event/private-event-5/
LOCATION:FL
CATEGORIES:Special Events
END:VEVENT
BEGIN:VEVENT
DTSTART;TZID=America/Los_Angeles:20250911T090000
DTEND;TZID=America/Los_Angeles:20250912T170000
DTSTAMP:20260421T044741
CREATED:20241125T230455Z
LAST-MODIFIED:20241125T230531Z
UID:125245-1757581200-1757696400@cad-ray-wp-core.cospark.io
SUMMARY:Picture Perfect: Professional Dental Photography
DESCRIPTION:Picture Perfect: Professional Dental Photography – The MOD Institute \nPlease Share this:TweetWhatsAppRedditTelegramEmailPrintLike this:Like Loading...
URL:https://cad-ray-wp-core.cospark.io/event/picture-perfect-professional-dental-photography/
LOCATION:CAD-Ray Las Vegas Campus\, 8400 W Sunset Rd\, Suite 300\, Las Vegas\, NV\, 89113
CATEGORIES:MOD Institure
ATTACH;FMTTYPE=image/jpeg:https://cad-ray-wp-core.cospark.io/wp-content/uploads/2024/11/Dental-photography-4.jpg
GEO:36.0711484;-115.2758342
X-APPLE-STRUCTURED-LOCATION;VALUE=URI;X-ADDRESS=CAD-Ray Las Vegas Campus 8400 W Sunset Rd Suite 300 Las Vegas NV 89113;X-APPLE-RADIUS=500;X-TITLE=8400 W Sunset Rd\, Suite 300:geo:-115.2758342,36.0711484
END:VEVENT
BEGIN:VEVENT
DTSTART;TZID=America/Los_Angeles:20250918T173000
DTEND;TZID=America/Los_Angeles:20250918T203000
DTSTAMP:20260421T044741
CREATED:20250814T171945Z
LAST-MODIFIED:20250814T171945Z
UID:143666-1758216600-1758227400@cad-ray-wp-core.cospark.io
SUMMARY:Jesse Taylor Event
DESCRIPTION:Please Share this:TweetWhatsAppRedditTelegramEmailPrintLike this:Like Loading...
URL:https://cad-ray-wp-core.cospark.io/event/jesse-taylor-event/
LOCATION:CAD-Ray Las Vegas Campus\, 8400 W Sunset Rd\, Suite 300\, Las Vegas\, NV\, 89113
CATEGORIES:Special Events
GEO:36.0711484;-115.2758342
X-APPLE-STRUCTURED-LOCATION;VALUE=URI;X-ADDRESS=CAD-Ray Las Vegas Campus 8400 W Sunset Rd Suite 300 Las Vegas NV 89113;X-APPLE-RADIUS=500;X-TITLE=8400 W Sunset Rd\, Suite 300:geo:-115.2758342,36.0711484
END:VEVENT
BEGIN:VEVENT
DTSTART;TZID=America/New_York:20250919T083000
DTEND;TZID=America/New_York:20250919T170000
DTSTAMP:20260421T044741
CREATED:20250626T005302Z
LAST-MODIFIED:20250717T005100Z
UID:140711-1758270600-1758301200@cad-ray-wp-core.cospark.io
SUMMARY:From Scan to Smile: A Full-Day Digital Dentistry Immersion with Shining 3D
DESCRIPTION:Come join us for an amazing day of Digital Dentistry knowledge and networking at the Tampa headquarters of Shining 3D! We’re taking a deep dive into the main pillars of digital workflow in scanning\, design and 3D printing to show you the benefits that await those who immerse themselves and their practices. We hope to see you there! \nLearning Objectives:\nBy the end of this course\, participants will be able to:\n\n\nConfidently scan patients using Shining 3D’s Elite and Aoralscan scanners\n\n\nDesign single-unit and multi-unit restorations using Exocad\n\n\nPrepare and print final restorations using the AccuFab CEL 3D printer\n\n\nUnderstand digital workflows from chairside to labside and back\n\n\nApply key tips and tricks for accuracy\, speed\, and predictability\n\n\n\nAgenda:\n8:30 AM – 9:00 AM | Welcome & Orientation\n\n\nCoffee\, light breakfast\, and introductions\n\n\nOverview of Shining 3D’s digital ecosystem\n\n\nExpectations for the day\n\n\n9:00 AM – 10:30 AM | Scanning with Confidence\nTechnology Covered: Elite & Aoralscan 3\n\n\nIntraoral scanning basics: speed\, accuracy\, and technique\n\n\nDifferences between Elite & Aoralscan workflows\n\n\nFull-arch and quadrant scans\n\n\nLive scanning demo + hands-on rotations\n\n\n10:30 AM – 10:45 AM | Break\n \n10:45 AM – 12:30 PM | Design in Exocad\nTechnology Covered: Exocad \n\n\nCase setup: importing scan data\n\n\nDesigning single crowns\, bridges\, and provisionals\n\n\nMargin control\, occlusion\, and anatomy editing\n\n\nIntegration tips: STL management and exporting for print\n\n\n12:30 PM – 1:30 PM | Lunch (Provided)\n \n1:30 PM – 3:00 PM | Print & Polish: AccuFab CEL Workflow\nTechnology Covered: AccuFab CEL + Accompanying Software\n\n\nPrinter setup\, resin handling\, and calibration\n\n\nPrinting a designed crown or provisional\n\n\nPost-processing: wash\, cure\, finish\n\n\nTips to reduce print failures and optimize fit\n\n\n3:00 PM – 3:15 PM | Break\n \n3:15 PM – 4:30 PM | Full Workflow Hands-On Lab\n\n\nScan > Design > Print in teams\n\n\nTroubleshooting common issues\n\n\nMentor-led coaching at each station\n\n\nGroup review and case comparison\n\n\n4:30 PM – 5:00 PM | Wrap-Up & Q&A\n\n\nReview key takeaways\n\n\nLive Q&A with Shining 3D clinical experts\n\n\n\nBonus Materials Provided:\n\n\nDigital workflow checklist\n\n\nDiscount voucher for Shining 3D accessories\n\n\n\nDamien J. Bonner\n\n631-672-2770\n\n\n \n  \n7 CE credit hours \n  \n  \nPlease Share this:TweetWhatsAppRedditTelegramEmailPrintLike this:Like Loading...
URL:https://cad-ray-wp-core.cospark.io/event/from-scan-to-smile-shining-3d/
LOCATION:Shining3D Technology\, Inc\, 2807 W Busch Blvd Suite 200 (Devereux Building)\, Tampa\, FL\, 33618\, United States
CATEGORIES:Level 2 -Digital Dentistry Hands-On Training (2 Day Course),Shining
ATTACH;FMTTYPE=image/png:https://cad-ray-wp-core.cospark.io/wp-content/uploads/2025/06/Shining3D-Tampa.png
ORGANIZER;CN="Damien%20Bonner":MAILTO:Damien@cad-ray.com
END:VEVENT
BEGIN:VEVENT
DTSTART;TZID=America/Los_Angeles:20250924T173000
DTEND;TZID=America/Los_Angeles:20250924T220000
DTSTAMP:20260421T044741
CREATED:20250826T163723Z
LAST-MODIFIED:20250826T163723Z
UID:144273-1758735000-1758751200@cad-ray-wp-core.cospark.io
SUMMARY:HDX Will CBCT Course
DESCRIPTION:Please Share this:TweetWhatsAppRedditTelegramEmailPrintLike this:Like Loading...
URL:https://cad-ray-wp-core.cospark.io/event/hdx-will-cbct-course/
LOCATION:CAD-Ray Las Vegas Campus\, 8400 W Sunset Rd\, Suite 300\, Las Vegas\, NV\, 89113
CATEGORIES:Special Events
GEO:36.0711484;-115.2758342
X-APPLE-STRUCTURED-LOCATION;VALUE=URI;X-ADDRESS=CAD-Ray Las Vegas Campus 8400 W Sunset Rd Suite 300 Las Vegas NV 89113;X-APPLE-RADIUS=500;X-TITLE=8400 W Sunset Rd\, Suite 300:geo:-115.2758342,36.0711484
END:VEVENT
END:VCALENDAR