BEGIN:VCALENDAR
VERSION:2.0
PRODID:-//CAD-Ray.com - ECPv5.16.4//NONSGML v1.0//EN
CALSCALE:GREGORIAN
METHOD:PUBLISH
X-ORIGINAL-URL:https://cad-ray-wp-core.cospark.io
X-WR-CALDESC:Events for CAD-Ray.com
REFRESH-INTERVAL;VALUE=DURATION:PT1H
X-Robots-Tag:noindex
X-PUBLISHED-TTL:PT1H
BEGIN:VTIMEZONE
TZID:America/Los_Angeles
BEGIN:DAYLIGHT
TZOFFSETFROM:-0800
TZOFFSETTO:-0700
TZNAME:PDT
DTSTART:20240310T100000
END:DAYLIGHT
BEGIN:STANDARD
TZOFFSETFROM:-0700
TZOFFSETTO:-0800
TZNAME:PST
DTSTART:20241103T090000
END:STANDARD
TZID:America/New_York
BEGIN:DAYLIGHT
TZOFFSETFROM:-0500
TZOFFSETTO:-0400
TZNAME:EDT
DTSTART:20240310T070000
END:DAYLIGHT
BEGIN:STANDARD
TZOFFSETFROM:-0400
TZOFFSETTO:-0500
TZNAME:EST
DTSTART:20241103T060000
END:STANDARD
END:VTIMEZONE
BEGIN:VEVENT
DTSTART;TZID=America/Los_Angeles:20241204T080000
DTEND;TZID=America/Los_Angeles:20241204T200000
DTSTAMP:20260421T192729
CREATED:20240402T212612Z
LAST-MODIFIED:20240402T212612Z
UID:115718-1733299200-1733342400@cad-ray-wp-core.cospark.io
SUMMARY:NHLA (Nevada Hotel & Lodging Association)
DESCRIPTION:Please Share this:TweetWhatsAppRedditTelegramEmailPrintLike this:Like Loading...
URL:https://cad-ray-wp-core.cospark.io/event/nhla-nevada-hotel-lodging-association/
LOCATION:CAD-Ray Las Vegas Campus\, 8400 W Sunset Rd\, Suite 300\, Las Vegas\, NV\, 89113
CATEGORIES:Special Events
GEO:36.0711484;-115.2758342
X-APPLE-STRUCTURED-LOCATION;VALUE=URI;X-ADDRESS=CAD-Ray Las Vegas Campus 8400 W Sunset Rd Suite 300 Las Vegas NV 89113;X-APPLE-RADIUS=500;X-TITLE=8400 W Sunset Rd\, Suite 300:geo:-115.2758342,36.0711484
END:VEVENT
BEGIN:VEVENT
DTSTART;TZID=America/Los_Angeles:20241205T080000
DTEND;TZID=America/Los_Angeles:20241205T200000
DTSTAMP:20260421T192729
CREATED:20240919T203024Z
LAST-MODIFIED:20240919T203024Z
UID:120225-1733385600-1733428800@cad-ray-wp-core.cospark.io
SUMMARY:Co-operate event
DESCRIPTION:Please Share this:TweetWhatsAppRedditTelegramEmailPrintLike this:Like Loading...
URL:https://cad-ray-wp-core.cospark.io/event/co-operate-event/
LOCATION:CAD-Ray Las Vegas Campus\, 8400 W Sunset Rd\, Suite 300\, Las Vegas\, NV\, 89113
CATEGORIES:Non CAD-Ray Events
GEO:36.0711484;-115.2758342
X-APPLE-STRUCTURED-LOCATION;VALUE=URI;X-ADDRESS=CAD-Ray Las Vegas Campus 8400 W Sunset Rd Suite 300 Las Vegas NV 89113;X-APPLE-RADIUS=500;X-TITLE=8400 W Sunset Rd\, Suite 300:geo:-115.2758342,36.0711484
END:VEVENT
BEGIN:VEVENT
DTSTART;TZID=America/New_York:20241210T180000
DTEND;TZID=America/New_York:20241210T210000
DTSTAMP:20260421T192729
CREATED:20241008T200003Z
LAST-MODIFIED:20241010T143954Z
UID:121492-1733853600-1733864400@cad-ray-wp-core.cospark.io
SUMMARY:The Digital Shift: Advancements in Dental Technology-Rockville\, MD
DESCRIPTION:Out with the old\, and in with the new! Join us for an intimate evening with the newest scanning technology in digital dentistry. Medit takes the forefront in showing off their new and updated versions of some of the world’s best digital scanners in the i600\, the i700 and i700 wireless\, and also the brand new i900. If you’ve been on the fence about joining the digital revolution\, this event is for you. Come chat with local colleagues and find out why Medit scanners are the best for a progressing dentist\, and also why CAD-Ray is the ONLY choice for post sale support and education. If you’re already a digital doc\, then come mingle and check out the next digital toy on your holiday list! \n \n  \nDetails \nWho: YOU\, CAD-Ray and Medit \nWhen: Tuesday\, December 10th\, 6-9pm \nWhere: Pinstripes of Bethesda/Rockville 11920 Grand Park Ave\, Bethesda MD 20852 \nParking-EASY-Garage across the street : ) \nWhy: Because dentists need to be in the KNOW\, and CAD-Ray will keep you there! \nThe Digital Shift-Pinstripes of Bethesda\nPlease Share this:TweetWhatsAppRedditTelegramEmailPrintLike this:Like Loading...
URL:https://cad-ray-wp-core.cospark.io/event/the-digital-shift-advancements-in-dental-technology-rockville-md/
LOCATION:Pinstripes\, 11920 Grand Park Ave\, Bethesda\, MD\, 20852\, United States
CATEGORIES:Discovery Events,Medit,Special Events
ATTACH;FMTTYPE=image/jpeg:https://cad-ray-wp-core.cospark.io/wp-content/uploads/2024/10/Pinstripes.jpg
ORGANIZER;CN="Matt%20Newman":MAILTO:support@cad-ray.com
END:VEVENT
END:VCALENDAR