BEGIN:VCALENDAR
VERSION:2.0
PRODID:-//CAD-Ray.com - ECPv5.16.4//NONSGML v1.0//EN
CALSCALE:GREGORIAN
METHOD:PUBLISH
X-WR-CALNAME:CAD-Ray.com
X-ORIGINAL-URL:https://cad-ray-wp-core.cospark.io
X-WR-CALDESC:Events for CAD-Ray.com
REFRESH-INTERVAL;VALUE=DURATION:PT1H
X-Robots-Tag:noindex
X-PUBLISHED-TTL:PT1H
BEGIN:VTIMEZONE
TZID:America/Los_Angeles
BEGIN:DAYLIGHT
TZOFFSETFROM:-0800
TZOFFSETTO:-0700
TZNAME:PDT
DTSTART:20240310T100000
END:DAYLIGHT
BEGIN:STANDARD
TZOFFSETFROM:-0700
TZOFFSETTO:-0800
TZNAME:PST
DTSTART:20241103T090000
END:STANDARD
END:VTIMEZONE
BEGIN:VEVENT
DTSTART;TZID=America/Los_Angeles:20240503T080000
DTEND;TZID=America/Los_Angeles:20240507T170000
DTSTAMP:20260422T083839
CREATED:20240115T184727Z
LAST-MODIFIED:20240115T184727Z
UID:112955-1714723200-1715101200@cad-ray-wp-core.cospark.io
SUMMARY:AAO Meeting New Orleans
DESCRIPTION:Please Share this:TweetWhatsAppRedditTelegramEmailPrintLike this:Like Loading...
URL:https://cad-ray-wp-core.cospark.io/event/aao-meeting-new-orleans/
LOCATION:FL
CATEGORIES:Conventions
ATTACH;FMTTYPE=image/png:https://cad-ray-wp-core.cospark.io/wp-content/uploads/2024/01/AAO.png
END:VEVENT
BEGIN:VEVENT
DTSTART;TZID=America/Los_Angeles:20240510T090000
DTEND;TZID=America/Los_Angeles:20240511T170000
DTSTAMP:20260422T083839
CREATED:20230724T185823Z
LAST-MODIFIED:20240202T184021Z
UID:111829-1715331600-1715446800@cad-ray-wp-core.cospark.io
SUMMARY:International Symposium on Ceramics
DESCRIPTION:Please Share this:TweetWhatsAppRedditTelegramEmailPrintLike this:Like Loading...
URL:https://cad-ray-wp-core.cospark.io/event/international-symposium-on-ceramics/2024-05-10/
LOCATION:CAD-Ray Las Vegas Campus\, 8400 W Sunset Rd\, Suite 300\, Las Vegas\, NV\, 89113
CATEGORIES:Special Events
ATTACH;FMTTYPE=image/jpeg:https://cad-ray-wp-core.cospark.io/wp-content/uploads/2023/07/358122046_10230932111515192_8747751136150087787_n.jpg
GEO:36.0711484;-115.2758342
X-APPLE-STRUCTURED-LOCATION;VALUE=URI;X-ADDRESS=CAD-Ray Las Vegas Campus 8400 W Sunset Rd Suite 300 Las Vegas NV 89113;X-APPLE-RADIUS=500;X-TITLE=8400 W Sunset Rd\, Suite 300:geo:-115.2758342,36.0711484
END:VEVENT
BEGIN:VEVENT
DTSTART;TZID=America/Los_Angeles:20240516T080000
DTEND;TZID=America/Los_Angeles:20240518T170000
DTSTAMP:20260422T083839
CREATED:20231101T160903Z
LAST-MODIFIED:20231101T172037Z
UID:110208-1715846400-1716051600@cad-ray-wp-core.cospark.io
SUMMARY:CDA May 16-18 2024
DESCRIPTION:Please Share this:TweetWhatsAppRedditTelegramEmailPrintLike this:Like Loading...
URL:https://cad-ray-wp-core.cospark.io/event/cda-may-16-18-2024/
LOCATION:Anaheim Convention Center
CATEGORIES:Conventions
ATTACH;FMTTYPE=image/png:https://cad-ray-wp-core.cospark.io/wp-content/uploads/2023/11/CDA.png
END:VEVENT
BEGIN:VEVENT
DTSTART;TZID=America/Los_Angeles:20240516T170000
DTEND;TZID=America/Los_Angeles:20240516T210000
DTSTAMP:20260422T083839
CREATED:20240429T164643Z
LAST-MODIFIED:20240429T164747Z
UID:116460-1715878800-1715893200@cad-ray-wp-core.cospark.io
SUMMARY:Jesse Taylor- Society for Information Management
DESCRIPTION:Please Share this:TweetWhatsAppRedditTelegramEmailPrintLike this:Like Loading...
URL:https://cad-ray-wp-core.cospark.io/event/jesse-taylor-society-for-information-management-2/2024-05-16/
LOCATION:CAD-Ray Las Vegas Campus\, 8400 W Sunset Rd\, Suite 300\, Las Vegas\, NV\, 89113
CATEGORIES:Special Events
GEO:36.0711484;-115.2758342
X-APPLE-STRUCTURED-LOCATION;VALUE=URI;X-ADDRESS=CAD-Ray Las Vegas Campus 8400 W Sunset Rd Suite 300 Las Vegas NV 89113;X-APPLE-RADIUS=500;X-TITLE=8400 W Sunset Rd\, Suite 300:geo:-115.2758342,36.0711484
END:VEVENT
BEGIN:VEVENT
DTSTART;TZID=America/Los_Angeles:20240522T180000
DTEND;TZID=America/Los_Angeles:20240522T210000
DTSTAMP:20260422T083839
CREATED:20230725T184011Z
LAST-MODIFIED:20230725T184011Z
UID:105747-1716400800-1716411600@cad-ray-wp-core.cospark.io
SUMMARY:Anacapa Dental Study Club
DESCRIPTION:Please Share this:TweetWhatsAppRedditTelegramEmailPrintLike this:Like Loading...
URL:https://cad-ray-wp-core.cospark.io/event/anacapa-dental-study-club/
LOCATION:FL
CATEGORIES:Special Events
END:VEVENT
END:VCALENDAR