BEGIN:VCALENDAR
VERSION:2.0
PRODID:-//CAD-Ray.com - ECPv5.16.4//NONSGML v1.0//EN
CALSCALE:GREGORIAN
METHOD:PUBLISH
X-WR-CALNAME:CAD-Ray.com
X-ORIGINAL-URL:https://cad-ray-wp-core.cospark.io
X-WR-CALDESC:Events for CAD-Ray.com
REFRESH-INTERVAL;VALUE=DURATION:PT1H
X-Robots-Tag:noindex
X-PUBLISHED-TTL:PT1H
BEGIN:VTIMEZONE
TZID:America/Los_Angeles
BEGIN:DAYLIGHT
TZOFFSETFROM:-0800
TZOFFSETTO:-0700
TZNAME:PDT
DTSTART:20230312T100000
END:DAYLIGHT
BEGIN:STANDARD
TZOFFSETFROM:-0700
TZOFFSETTO:-0800
TZNAME:PST
DTSTART:20231105T090000
END:STANDARD
END:VTIMEZONE
BEGIN:VEVENT
DTSTART;TZID=America/Los_Angeles:20230906T180000
DTEND;TZID=America/Los_Angeles:20230906T200000
DTSTAMP:20260422T200921
CREATED:20230905T210723Z
LAST-MODIFIED:20230905T210723Z
UID:108127-1694023200-1694030400@cad-ray-wp-core.cospark.io
SUMMARY:LV Perio Study Club
DESCRIPTION:Please Share this:TweetWhatsAppRedditTelegramEmailPrintLike this:Like Loading...
URL:https://cad-ray-wp-core.cospark.io/event/lv-perio-study-club/
LOCATION:FL
END:VEVENT
BEGIN:VEVENT
DTSTART;TZID=America/Los_Angeles:20230907T080000
DTEND;TZID=America/Los_Angeles:20230909T170000
DTSTAMP:20260422T200921
CREATED:20230725T175614Z
LAST-MODIFIED:20230725T175755Z
UID:105733-1694073600-1694278800@cad-ray-wp-core.cospark.io
SUMMARY:CDA Presents in San Jose September 7-9\, 2023
DESCRIPTION:CDA Presents in San Jose\nSeptember 7-9\, 2023\nMcEnery Convention Center\nSan Joes\, CA\nhttps://www.cda.org/Home/News-and-Events/CDA-Presents \nPlease Share this:TweetWhatsAppRedditTelegramEmailPrintLike this:Like Loading...
URL:https://cad-ray-wp-core.cospark.io/event/cda-presents-in-san-jose-september-7-9-2023/
LOCATION:FL
CATEGORIES:Conventions
ATTACH;FMTTYPE=image/jpeg:https://cad-ray-wp-core.cospark.io/wp-content/uploads/2023/07/cda-presents.jpg
END:VEVENT
BEGIN:VEVENT
DTSTART;TZID=America/Los_Angeles:20230912T180000
DTEND;TZID=America/Los_Angeles:20230912T200000
DTSTAMP:20260422T200921
CREATED:20230208T200716Z
LAST-MODIFIED:20230831T191939Z
UID:91743-1694541600-1694548800@cad-ray-wp-core.cospark.io
SUMMARY:CAD-Ray Digital Dentistry Study Club
DESCRIPTION:Sept 12 Study Club Flyer_Corrected\n\n 	Digital implant restorations\n 	Mastery the artificial intelligent implant suprastructure identification system to manage direct abutments and scanbodies\n 	Design single units\, copy cases\, and custom abutments from scan bodies\n\n\nThe following videos demonstrate how the Medit i500 has artificial intelligence that can readily identify a dental implant scanbody\, a direct abutment\, or even an impression abutment.  What is even more impressive is that you can import your own library of implant components or design and create your own scanbody.  This automatic identification of implant suprasctructures saves dozen of steps whether you wish to fabricate restorations in the office or send it to the lab. \n	\n	\n	Please enable JavaScriptplay-rounded-fill\n\n    \n    \n    LinkEmbedCopy and paste this HTML code into your webpage to embed.\n\n	\n		Medit's i500 Artifical Intelligence Identifies Implant Fixture\n        \n        \n        \n        \n		ALL of the Pertinent Information is Imported into exocad as One Complex\n        \n        \n        \n        \n		\n        \n        \n        \n        \n		\n        \n        \n        \n        \n	\n\n\n\nMedit i500’s artificial intelligence implant identification system spots a titanium scanbody on a freshly uncovered biomax implant. It didn’t matter how bloody the field was- it readily identified the suprastructure which is then transferred to the cad software where the implant location and timing is correctly displayed and the design of the custom abutment begins\, saving many steps and reducing potential errors. The cool part is the software can recognize impression abutment\, tibases\, and lots of other supra structures.\n\nYou can see this case in more detail here \n	\n	\n	Please enable JavaScriptplay-rounded-fill\n\n    \n    \n    LinkEmbedCopy and paste this HTML code into your webpage to embed.\n\n	\n		medit i500 artifical intelligence scanbody identification\n        \n        \n        \n        \n		impression abutment and tibase scan\n        \n        \n        \n        \n	\n\n\n \n\n Please Share this:TweetWhatsAppRedditTelegramEmailPrintLike this:Like Loading...
URL:https://cad-ray-wp-core.cospark.io/event/cad-ray-digital-dentistry-study-club-2023-09-07/
LOCATION:CAD-Ray Las Vegas Campus\, 8400 W Sunset Rd\, Suite 300\, Las Vegas\, NV\, 89113
CATEGORIES:CAD-Ray Digital Dentistry Study Club in LasVegas
GEO:36.0711484;-115.2758342
X-APPLE-STRUCTURED-LOCATION;VALUE=URI;X-ADDRESS=CAD-Ray Las Vegas Campus 8400 W Sunset Rd Suite 300 Las Vegas NV 89113;X-APPLE-RADIUS=500;X-TITLE=8400 W Sunset Rd\, Suite 300:geo:-115.2758342,36.0711484
END:VEVENT
BEGIN:VEVENT
DTSTART;TZID=America/Los_Angeles:20230913T180000
DTEND;TZID=America/Los_Angeles:20230913T200000
DTSTAMP:20260422T200921
CREATED:20230905T210811Z
LAST-MODIFIED:20230905T210811Z
UID:108131-1694628000-1694635200@cad-ray-wp-core.cospark.io
SUMMARY:LV Perio Study Club
DESCRIPTION:Please Share this:TweetWhatsAppRedditTelegramEmailPrintLike this:Like Loading...
URL:https://cad-ray-wp-core.cospark.io/event/lv-perio-study-club-2/
LOCATION:FL
END:VEVENT
BEGIN:VEVENT
DTSTART;TZID=America/Los_Angeles:20230915T080000
DTEND;TZID=America/Los_Angeles:20230916T170000
DTSTAMP:20260422T200921
CREATED:20230727T145508Z
LAST-MODIFIED:20230727T145508Z
UID:105979-1694764800-1694883600@cad-ray-wp-core.cospark.io
SUMMARY:LA Dental Meeting
DESCRIPTION:Please Share this:TweetWhatsAppRedditTelegramEmailPrintLike this:Like Loading...
URL:https://cad-ray-wp-core.cospark.io/event/la-dental-meeting/
LOCATION:FL
CATEGORIES:Conventions
ATTACH;FMTTYPE=image/png:https://cad-ray-wp-core.cospark.io/wp-content/uploads/2023/07/la-dental-meeting.png
END:VEVENT
BEGIN:VEVENT
DTSTART;TZID=America/Los_Angeles:20230920T090000
DTEND;TZID=America/Los_Angeles:20230923T200000
DTSTAMP:20260422T200921
CREATED:20230724T181701Z
LAST-MODIFIED:20230727T145337Z
UID:105638-1695200400-1695499200@cad-ray-wp-core.cospark.io
SUMMARY:CAD-Ray National Sales Event
DESCRIPTION:Please Share this:TweetWhatsAppRedditTelegramEmailPrintLike this:Like Loading...
URL:https://cad-ray-wp-core.cospark.io/event/cad-ray-national-sales-event/
LOCATION:CAD-Ray Las Vegas Campus\, 8400 W Sunset Rd\, Suite 300\, Las Vegas\, NV\, 89113
CATEGORIES:Special Events
GEO:36.0711484;-115.2758342
X-APPLE-STRUCTURED-LOCATION;VALUE=URI;X-ADDRESS=CAD-Ray Las Vegas Campus 8400 W Sunset Rd Suite 300 Las Vegas NV 89113;X-APPLE-RADIUS=500;X-TITLE=8400 W Sunset Rd\, Suite 300:geo:-115.2758342,36.0711484
END:VEVENT
BEGIN:VEVENT
DTSTART;TZID=America/Los_Angeles:20230922T090000
DTEND;TZID=America/Los_Angeles:20230923T170000
DTSTAMP:20260422T200921
CREATED:20230519T160353Z
LAST-MODIFIED:20230720T183738Z
UID:100497-1695373200-1695488400@cad-ray-wp-core.cospark.io
SUMMARY:LV3-Intro to Milling\, Las Vegas\, NV
DESCRIPTION:Gain a simple understanding of milling basics\, with hands-on training in single and multiple-unit crown cases. \nClass objectives: at the end of this course\, attendees should be able to grasp the following concepts \n\nProper prep design\nRetraction techniques for successful scanning\nHow to design simple posterior restoration\nHow to move a designed stl file through CAM software and mill\nHow to process zirconia with hands-on training\nProcessing of green state zirconia and finishing skills after sintering\nChairside workflows for efficiency\n\n  \nCourse schedule: \nDay 1 \n–          Introduction to manufacturing – Lecture\, 8:30 – 10:00 – Frank \n–          Design Single unit posterior zirconia restoration\, 10:15 – 11:00 – Frank and Armen \no   Get in Dof mill for afternoon \n–          Prep Design and materials selection 11 – 12 – Amen and vendor partner(Vita\, Hass\, etc.)\n–          Lunch 12 – 12:30\n–          Design multiple posterior restorations (2 premolars) 12:45 to 1:45\n–          Design inlay/onlay and anterior unit 2:00 – 3:00\n–          Zirconia pre-polishing  3:00 – 4:30 and lecture – Units from AM session\n–          Closing Statements\n–          5:30 – Freshen up\n–          Dinner 6:00 – 8:00 \nDay 2 \n–          Design your own case from home – 8:30 – 10:00 – Design to be milled\n–          Lecture 10:00 – 12:00  – intro to Exo and Abutments\n–          Lunch 12 – 1:00\n–          Stain/glaze fire 1:00 – 2:30\n–          Closing 2:30 – 3:30\n–          3:00 – 4:00 Q&A/get restos \n  \nSpeaker profile: Frank DeLuca \nFrank DeLuca started his career in dental sales in 2008\, and quickly gravitated toward technology and equipment.  Holding clients hands through the integration of technology has always been the highlight of his time\, and keeps the work fulfilling.  Whether an intraoral scanner\, 3D printer\, mill or CBCT\, Frank has always wanted to know as much as possible to help in any situation.  “I believe it is imperative to work with someone like me who truly enjoys technology;  it is really not work when you enjoy it.  Getting to see the “ah-haa” moments in a client’s eyes is why I do what I do.” \nSample Restorative Cases: \n*DOWNLOAD Case 1: Crown\n*DOWNLOAD Case 2: Onlay\n*DOWNLOAD Case 3: Korolation\n*DOWNLOAD Case 4: Custom Abutment\n*DOWNLOAD Case 5: Replication of Central Incisor on Tibase \nPlease Share this:TweetWhatsAppRedditTelegramEmailPrintLike this:Like Loading...
URL:https://cad-ray-wp-core.cospark.io/event/three-day-level-3-milling-and-printing/
LOCATION:CAD-Ray Las Vegas Campus\, 8400 W Sunset Rd\, Suite 300\, Las Vegas\, NV\, 89113
CATEGORIES:Level 3 - Digital Implants, Restoration Designs and Manufacturing Hands-On Course (2 Day Course)
GEO:36.0711484;-115.2758342
X-APPLE-STRUCTURED-LOCATION;VALUE=URI;X-ADDRESS=CAD-Ray Las Vegas Campus 8400 W Sunset Rd Suite 300 Las Vegas NV 89113;X-APPLE-RADIUS=500;X-TITLE=8400 W Sunset Rd\, Suite 300:geo:-115.2758342,36.0711484
END:VEVENT
BEGIN:VEVENT
DTSTART;TZID=America/Los_Angeles:20230929T090000
DTEND;TZID=America/Los_Angeles:20230930T150000
DTSTAMP:20260422T200921
CREATED:20230724T180724Z
LAST-MODIFIED:20230802T180603Z
UID:105636-1695978000-1696086000@cad-ray-wp-core.cospark.io
SUMMARY:Level 2 Medit Scanning-Las Vegas
DESCRIPTION:DAY 1 Morning Session: \n\n 	Fundamentals of Digital Impressions\n 	Learn all of the advantages of digital impressions over analog and how you can function independent of time and sequence and how you can take advantage of the editable and additive features of intra-oral scans\n\n\n	\n	\n	Please enable JavaScriptplay-rounded-fill\n\n    \n    \n    LinkEmbedCopy and paste this HTML code into your webpage to embed.\n\n	\n		Master Intra-Oral Scanning Under Our Supervision\n        \n        \n        \n        \n		Scan Yourself in No Time\n        \n        \n        \n        \n		Tips and Tricks to Make your Life Much Easier Back at the Office\n        \n        \n        \n        \n	\n\n\n\n 	Master of single unit impressions\, complex cases\, and learn how to stage of full arch cases\n 	Managing errors introduced in imaging\n 	Understand how to quickly capture and accurately render full arch cases\n 	How and what to delegate to team members\n 	This is a sample video of a full mouth rehabilitation you will learn how to manage by late morning of Day 1\n\n\n	\n	\n	Please enable JavaScriptplay-rounded-fill\n\n\n        \n        \n        \n        \n\n    \n    \n    LinkEmbedCopy and paste this HTML code into your webpage to embed.\nlearn how to manage full arch cases in simple segments\n\n\n\n\n\n\n\nFull arch scans for aligners and other appliance can be tricky with a lot of intra-oral scanners.  With some sound principles and easy tutorials you can image a full arch in very little time. The reliability map\, unique to the Medit i500\, i600\, and i700 help you stay on track and avoid model distortion and inaccuracies \n	\n	\n	Please enable JavaScriptplay-rounded-fill\n\n    \n    \n    LinkEmbedCopy and paste this HTML code into your webpage to embed.\n\n	\n		\n        \n        \n        \n        \n		\n        \n        \n        \n        \n	\n\n\n\n\n\nAfternoon Session:\n\n\n\n 	Digital implant restorations\n 	Mastery the artificial intelligent implant suprastructure identification system to manage direct abutments and scanbodies\n 	Design single units\, copy cases\, and custom abutments from scan bodies\n\n\nThe following videos demonstrate how the Medit i500 has artificial intelligence that can readily identify a dental implant scanbody\, a direct abutment\, or even an impression abutment.  What is even more impressive is that you can import your own library of implant components or design and create your own scanbody.  This automatic identification of implant suprasctructures saves dozen of steps whether you wish to fabricate restorations in the office or send it to the lab. \n	\n	\n	Please enable JavaScriptplay-rounded-fill\n\n    \n    \n    LinkEmbedCopy and paste this HTML code into your webpage to embed.\n\n	\n		Medit's i500 Artifical Intelligence Identifies Implant Fixture\n        \n        \n        \n        \n		ALL of the Pertinent Information is Imported into exocad as One Complex\n        \n        \n        \n        \n		\n        \n        \n        \n        \n		\n        \n        \n        \n        \n	\n\n\n\nMedit i500’s artificial intelligence implant identification system spots a titanium scanbody on a freshly uncovered biomax implant. It didn’t matter how bloody the field was- it readily identified the suprastructure which is then transferred to the cad software where the implant location and timing is correctly displayed and the design of the custom abutment begins\, saving many steps and reducing potential errors. The cool part is the software can recognize impression abutment\, tibases\, and lots of other supra structures.\n\nYou can see this case in more detail here \n	\n	\n	Please enable JavaScriptplay-rounded-fill\n\n    \n    \n    LinkEmbedCopy and paste this HTML code into your webpage to embed.\n\n	\n		medit i500 artifical intelligence scanbody identification\n        \n        \n        \n        \n		impression abutment and tibase scan\n        \n        \n        \n        \n	\n\n\n \n\n\n\n\n\nDAY 2 Morning Session: Digital Implantology \n\n 	Introduction and mastery of Integration of Cone Beam data and STL data\n 	Understanding the limitation of Cone Beam and STL integration\n 	Integration and limitation of multiple Cone Beam data sets\n 	Proper digitization of denture duplicates for stent fabrication\n 	Multiple ways to design a surgical stent and how to choose appropriate design type\n 	Proper case presentation techniques for patients\n 	Single implant placement designs\n 	Understand how to use Cone Beam scans and surgical stent\n 	Treatment planning large cases\n 	Appropriate case set ups and their ramifications during surgery\n 	The multiple uses for chairside denture duplication\n 	Chairside denture duplication and scan appliance fabrication\n 	Impression techniques for multiple fixtures\n 	Impression techniques for multi-abutments\n 	Restorative designs of abutments on CAD software\n\n\n\n\n\n\n\n\n\n\nAfternoon Session: Edentulous and Full Mouth Cases\n\n 	Immediate extractions and how to keep track of the vertical dimension\n 	The multiple restorative options available to you\n 	Accurate transfers of fixtures to models\n 	Digital impressions for edentulous cases\n 	Edentulous case design in with digital dentures\n 	photogrammetry and intra-oral scans of full arch cases\n\n\n	\n	\n	Please enable JavaScriptplay-rounded-fill\n\n\n        \n        \n        \n        \n\n    \n    \n    LinkEmbedCopy and paste this HTML code into your webpage to embed.\n\n\n\n\n\n\n Please Share this:TweetWhatsAppRedditTelegramEmailPrintLike this:Like Loading...
URL:https://cad-ray-wp-core.cospark.io/event/level-2-las-vegas-sep-29-30/
LOCATION:CAD-Ray Las Vegas Campus\, 8400 W Sunset Rd\, Suite 300\, Las Vegas\, NV\, 89113
CATEGORIES:Level 2 -Digital Dentistry Hands-On Training (2 Day Course)
ATTACH;FMTTYPE=image/jpeg:https://cad-ray-wp-core.cospark.io/wp-content/uploads/2023/08/level-2-medit-scanning-las-vegas.jpg
GEO:36.0711484;-115.2758342
X-APPLE-STRUCTURED-LOCATION;VALUE=URI;X-ADDRESS=CAD-Ray Las Vegas Campus 8400 W Sunset Rd Suite 300 Las Vegas NV 89113;X-APPLE-RADIUS=500;X-TITLE=8400 W Sunset Rd\, Suite 300:geo:-115.2758342,36.0711484
END:VEVENT
END:VCALENDAR