BEGIN:VCALENDAR
VERSION:2.0
PRODID:-//CAD-Ray.com - ECPv5.16.4//NONSGML v1.0//EN
CALSCALE:GREGORIAN
METHOD:PUBLISH
X-ORIGINAL-URL:https://cad-ray-wp-core.cospark.io
X-WR-CALDESC:Events for CAD-Ray.com
REFRESH-INTERVAL;VALUE=DURATION:PT1H
X-Robots-Tag:noindex
X-PUBLISHED-TTL:PT1H
BEGIN:VTIMEZONE
TZID:America/Los_Angeles
BEGIN:DAYLIGHT
TZOFFSETFROM:-0800
TZOFFSETTO:-0700
TZNAME:PDT
DTSTART:20230312T100000
END:DAYLIGHT
BEGIN:STANDARD
TZOFFSETFROM:-0700
TZOFFSETTO:-0800
TZNAME:PST
DTSTART:20231105T090000
END:STANDARD
END:VTIMEZONE
BEGIN:VEVENT
DTSTART;TZID=America/Los_Angeles:20230803T083000
DTEND;TZID=America/Los_Angeles:20230805T153000
DTSTAMP:20260422T213824
CREATED:20230421T233241Z
LAST-MODIFIED:20230421T233637Z
UID:98024-1691051400-1691249400@cad-ray-wp-core.cospark.io
SUMMARY:Exocad 101 Deep dive into Exocad!
DESCRIPTION:Please Share this:TweetWhatsAppRedditTelegramEmailPrintLike this:Like Loading...
URL:https://cad-ray-wp-core.cospark.io/event/exocad-101-join-us-for-an-interactive-deep-dive-into-exocad/
LOCATION:FL
CATEGORIES:exocad
ATTACH;FMTTYPE=image/png:https://cad-ray-wp-core.cospark.io/wp-content/uploads/2023/04/exocad-course.png
END:VEVENT
BEGIN:VEVENT
DTSTART;TZID=America/Los_Angeles:20230803T180000
DTEND;TZID=America/Los_Angeles:20230803T200000
DTSTAMP:20260422T213824
CREATED:20230208T200716Z
LAST-MODIFIED:20230725T194814Z
UID:91742-1691085600-1691092800@cad-ray-wp-core.cospark.io
SUMMARY:CAD-Ray Digital Dentistry Study Club
DESCRIPTION:Digital Orthodontics and Clear Aligner Manufacturing \n  \nPlease Share this:TweetWhatsAppRedditTelegramEmailPrintLike this:Like Loading...
URL:https://cad-ray-wp-core.cospark.io/event/cad-ray-digital-dentistry-study-club-2023-08-03/
LOCATION:CAD-Ray Las Vegas Campus\, 8400 W Sunset Rd\, Suite 300\, Las Vegas\, NV\, 89113
CATEGORIES:CAD-Ray Digital Dentistry Study Club in LasVegas
GEO:36.0711484;-115.2758342
X-APPLE-STRUCTURED-LOCATION;VALUE=URI;X-ADDRESS=CAD-Ray Las Vegas Campus 8400 W Sunset Rd Suite 300 Las Vegas NV 89113;X-APPLE-RADIUS=500;X-TITLE=8400 W Sunset Rd\, Suite 300:geo:-115.2758342,36.0711484
END:VEVENT
BEGIN:VEVENT
DTSTART;TZID=America/Los_Angeles:20230810T093000
DTEND;TZID=America/Los_Angeles:20230812T170000
DTSTAMP:20260422T213824
CREATED:20230724T213548Z
LAST-MODIFIED:20230725T202210Z
UID:105678-1691659800-1691859600@cad-ray-wp-core.cospark.io
SUMMARY:ProSleep Prosomnus Event August 10-12
DESCRIPTION:Hear from\, and collaborate with\, world class sleep medicine clinicians and experts on the latest research and clinical data supporting precision Oral Appliance Therapy as an alternative and front-line treatment for OSA. Over a dozen lecturers\, select panels\, 12 CE hours\, supportive sponsors wrapped in the ProSomnus family comradery during a beautiful summer weekend in San Francisco offering the best view by the bay! \nPlease Share this:TweetWhatsAppRedditTelegramEmailPrintLike this:Like Loading...
URL:https://cad-ray-wp-core.cospark.io/event/pro-august-10-12/
LOCATION:FL
CATEGORIES:Conventions
ATTACH;FMTTYPE=image/png:https://cad-ray-wp-core.cospark.io/wp-content/uploads/2023/07/prosomnus.png
END:VEVENT
BEGIN:VEVENT
DTSTART;TZID=America/Los_Angeles:20230829T090000
DTEND;TZID=America/Los_Angeles:20230829T170000
DTSTAMP:20260422T213824
CREATED:20230724T182015Z
LAST-MODIFIED:20230803T180836Z
UID:105642-1693299600-1693328400@cad-ray-wp-core.cospark.io
SUMMARY:Australian Event
DESCRIPTION:Please Share this:TweetWhatsAppRedditTelegramEmailPrintLike this:Like Loading...
URL:https://cad-ray-wp-core.cospark.io/event/australian-event/
LOCATION:CAD-Ray Las Vegas Campus\, 8400 W Sunset Rd\, Suite 300\, Las Vegas\, NV\, 89113
CATEGORIES:Special Events
ATTACH;FMTTYPE=image/png:https://cad-ray-wp-core.cospark.io/wp-content/uploads/2023/07/boomerang.png
GEO:36.0711484;-115.2758342
X-APPLE-STRUCTURED-LOCATION;VALUE=URI;X-ADDRESS=CAD-Ray Las Vegas Campus 8400 W Sunset Rd Suite 300 Las Vegas NV 89113;X-APPLE-RADIUS=500;X-TITLE=8400 W Sunset Rd\, Suite 300:geo:-115.2758342,36.0711484
END:VEVENT
END:VCALENDAR