BEGIN:VCALENDAR
VERSION:2.0
PRODID:-//CAD-Ray.com - ECPv5.16.4//NONSGML v1.0//EN
CALSCALE:GREGORIAN
METHOD:PUBLISH
X-WR-CALNAME:CAD-Ray.com
X-ORIGINAL-URL:https://cad-ray-wp-core.cospark.io
X-WR-CALDESC:Events for CAD-Ray.com
REFRESH-INTERVAL;VALUE=DURATION:PT1H
X-Robots-Tag:noindex
X-PUBLISHED-TTL:PT1H
BEGIN:VTIMEZONE
TZID:America/Los_Angeles
BEGIN:DAYLIGHT
TZOFFSETFROM:-0800
TZOFFSETTO:-0700
TZNAME:PDT
DTSTART:20230312T100000
END:DAYLIGHT
BEGIN:STANDARD
TZOFFSETFROM:-0700
TZOFFSETTO:-0800
TZNAME:PST
DTSTART:20231105T090000
END:STANDARD
END:VTIMEZONE
BEGIN:VEVENT
DTSTART;TZID=America/Los_Angeles:20231117T090000
DTEND;TZID=America/Los_Angeles:20231118T170000
DTSTAMP:20260422T184451
CREATED:20230724T185823Z
LAST-MODIFIED:20240202T184020Z
UID:105644-1700211600-1700326800@cad-ray-wp-core.cospark.io
SUMMARY:International Symposium on Ceramics
DESCRIPTION:Please Share this:TweetWhatsAppRedditTelegramEmailPrintLike this:Like Loading...
URL:https://cad-ray-wp-core.cospark.io/event/international-symposium-on-ceramics/
LOCATION:CAD-Ray Las Vegas Campus\, 8400 W Sunset Rd\, Suite 300\, Las Vegas\, NV\, 89113
CATEGORIES:Special Events
ATTACH;FMTTYPE=image/jpeg:https://cad-ray-wp-core.cospark.io/wp-content/uploads/2023/07/358122046_10230932111515192_8747751136150087787_n.jpg
GEO:36.0711484;-115.2758342
X-APPLE-STRUCTURED-LOCATION;VALUE=URI;X-ADDRESS=CAD-Ray Las Vegas Campus 8400 W Sunset Rd Suite 300 Las Vegas NV 89113;X-APPLE-RADIUS=500;X-TITLE=8400 W Sunset Rd\, Suite 300:geo:-115.2758342,36.0711484
END:VEVENT
END:VCALENDAR