BEGIN:VCALENDAR
VERSION:2.0
PRODID:-//CAD-Ray.com - ECPv5.16.4//NONSGML v1.0//EN
CALSCALE:GREGORIAN
METHOD:PUBLISH
X-WR-CALNAME:CAD-Ray.com
X-ORIGINAL-URL:https://cad-ray-wp-core.cospark.io
X-WR-CALDESC:Events for CAD-Ray.com
REFRESH-INTERVAL;VALUE=DURATION:PT1H
X-Robots-Tag:noindex
X-PUBLISHED-TTL:PT1H
BEGIN:VTIMEZONE
TZID:America/Los_Angeles
BEGIN:DAYLIGHT
TZOFFSETFROM:-0800
TZOFFSETTO:-0700
TZNAME:PDT
DTSTART:20240310T100000
END:DAYLIGHT
BEGIN:STANDARD
TZOFFSETFROM:-0700
TZOFFSETTO:-0800
TZNAME:PST
DTSTART:20241103T090000
END:STANDARD
END:VTIMEZONE
BEGIN:VEVENT
DTSTART;TZID=America/Los_Angeles:20241002T110000
DTEND;TZID=America/Los_Angeles:20241002T200000
DTSTAMP:20260421T224728
CREATED:20240903T154913Z
LAST-MODIFIED:20240903T154913Z
UID:119630-1727866800-1727899200@cad-ray-wp-core.cospark.io
SUMMARY:The Swingers Golf Club
DESCRIPTION:Please Share this:TweetWhatsAppRedditTelegramEmailPrintLike this:Like Loading...
URL:https://cad-ray-wp-core.cospark.io/event/the-swingers-golf-club-5/
LOCATION:CAD-Ray Las Vegas Campus\, 8400 W Sunset Rd\, Suite 300\, Las Vegas\, NV\, 89113
CATEGORIES:Special Events
GEO:36.0711484;-115.2758342
X-APPLE-STRUCTURED-LOCATION;VALUE=URI;X-ADDRESS=CAD-Ray Las Vegas Campus 8400 W Sunset Rd Suite 300 Las Vegas NV 89113;X-APPLE-RADIUS=500;X-TITLE=8400 W Sunset Rd\, Suite 300:geo:-115.2758342,36.0711484
END:VEVENT
BEGIN:VEVENT
DTSTART;TZID=America/Los_Angeles:20241003T110000
DTEND;TZID=America/Los_Angeles:20241003T150000
DTSTAMP:20260421T224728
CREATED:20240828T160842Z
LAST-MODIFIED:20240828T160842Z
UID:119427-1727953200-1727967600@cad-ray-wp-core.cospark.io
SUMMARY:blackfire event
DESCRIPTION:Please Share this:TweetWhatsAppRedditTelegramEmailPrintLike this:Like Loading...
URL:https://cad-ray-wp-core.cospark.io/event/blackfire-event-3/
LOCATION:CAD-Ray Las Vegas Campus\, 8400 W Sunset Rd\, Suite 300\, Las Vegas\, NV\, 89113
CATEGORIES:Special Events
GEO:36.0711484;-115.2758342
X-APPLE-STRUCTURED-LOCATION;VALUE=URI;X-ADDRESS=CAD-Ray Las Vegas Campus 8400 W Sunset Rd Suite 300 Las Vegas NV 89113;X-APPLE-RADIUS=500;X-TITLE=8400 W Sunset Rd\, Suite 300:geo:-115.2758342,36.0711484
END:VEVENT
BEGIN:VEVENT
DTSTART;TZID=America/Los_Angeles:20241003T160000
DTEND;TZID=America/Los_Angeles:20241003T190000
DTSTAMP:20260421T224728
CREATED:20240903T205311Z
LAST-MODIFIED:20240903T205311Z
UID:119662-1727971200-1727982000@cad-ray-wp-core.cospark.io
SUMMARY:Broadband Group
DESCRIPTION:Please Share this:TweetWhatsAppRedditTelegramEmailPrintLike this:Like Loading...
URL:https://cad-ray-wp-core.cospark.io/event/broadband-group/
LOCATION:CAD-Ray Las Vegas Campus\, 8400 W Sunset Rd\, Suite 300\, Las Vegas\, NV\, 89113
CATEGORIES:Special Events
GEO:36.0711484;-115.2758342
X-APPLE-STRUCTURED-LOCATION;VALUE=URI;X-ADDRESS=CAD-Ray Las Vegas Campus 8400 W Sunset Rd Suite 300 Las Vegas NV 89113;X-APPLE-RADIUS=500;X-TITLE=8400 W Sunset Rd\, Suite 300:geo:-115.2758342,36.0711484
END:VEVENT
BEGIN:VEVENT
DTSTART;TZID=America/Los_Angeles:20241009T100000
DTEND;TZID=America/Los_Angeles:20241009T170000
DTSTAMP:20260421T224728
CREATED:20240903T155059Z
LAST-MODIFIED:20240930T232239Z
UID:119632-1728468000-1728493200@cad-ray-wp-core.cospark.io
SUMMARY:The Swingers Golf Club
DESCRIPTION:Please Share this:TweetWhatsAppRedditTelegramEmailPrintLike this:Like Loading...
URL:https://cad-ray-wp-core.cospark.io/event/the-swingers-golf-club-7/
LOCATION:CAD-Ray Las Vegas Campus\, 8400 W Sunset Rd\, Suite 300\, Las Vegas\, NV\, 89113
CATEGORIES:Special Events
GEO:36.0711484;-115.2758342
X-APPLE-STRUCTURED-LOCATION;VALUE=URI;X-ADDRESS=CAD-Ray Las Vegas Campus 8400 W Sunset Rd Suite 300 Las Vegas NV 89113;X-APPLE-RADIUS=500;X-TITLE=8400 W Sunset Rd\, Suite 300:geo:-115.2758342,36.0711484
END:VEVENT
BEGIN:VEVENT
DTSTART;TZID=America/Los_Angeles:20241017T170000
DTEND;TZID=America/Los_Angeles:20241017T210000
DTSTAMP:20260421T224728
CREATED:20240429T164643Z
LAST-MODIFIED:20240429T164643Z
UID:116463-1729184400-1729198800@cad-ray-wp-core.cospark.io
SUMMARY:Jesse Taylor- Society for Information Management
DESCRIPTION:Please Share this:TweetWhatsAppRedditTelegramEmailPrintLike this:Like Loading...
URL:https://cad-ray-wp-core.cospark.io/event/jesse-taylor-society-for-information-management-2/2024-10-17/
LOCATION:CAD-Ray Las Vegas Campus\, 8400 W Sunset Rd\, Suite 300\, Las Vegas\, NV\, 89113
CATEGORIES:Special Events
GEO:36.0711484;-115.2758342
X-APPLE-STRUCTURED-LOCATION;VALUE=URI;X-ADDRESS=CAD-Ray Las Vegas Campus 8400 W Sunset Rd Suite 300 Las Vegas NV 89113;X-APPLE-RADIUS=500;X-TITLE=8400 W Sunset Rd\, Suite 300:geo:-115.2758342,36.0711484
END:VEVENT
END:VCALENDAR