BEGIN:VCALENDAR
VERSION:2.0
PRODID:-//CAD-Ray.com - ECPv5.16.4//NONSGML v1.0//EN
CALSCALE:GREGORIAN
METHOD:PUBLISH
X-WR-CALNAME:CAD-Ray.com
X-ORIGINAL-URL:https://cad-ray-wp-core.cospark.io
X-WR-CALDESC:Events for CAD-Ray.com
REFRESH-INTERVAL;VALUE=DURATION:PT1H
X-Robots-Tag:noindex
X-PUBLISHED-TTL:PT1H
BEGIN:VTIMEZONE
TZID:America/Los_Angeles
BEGIN:DAYLIGHT
TZOFFSETFROM:-0800
TZOFFSETTO:-0700
TZNAME:PDT
DTSTART:20240310T100000
END:DAYLIGHT
BEGIN:STANDARD
TZOFFSETFROM:-0700
TZOFFSETTO:-0800
TZNAME:PST
DTSTART:20241103T090000
END:STANDARD
END:VTIMEZONE
BEGIN:VEVENT
DTSTART;TZID=America/Los_Angeles:20240221T180000
DTEND;TZID=America/Los_Angeles:20240221T200000
DTSTAMP:20260422T201416
CREATED:20230623T154727Z
LAST-MODIFIED:20240201T194653Z
UID:103407-1708538400-1708545600@cad-ray-wp-core.cospark.io
SUMMARY:Las Vegas Perio Study Club
DESCRIPTION:Please Share this:TweetWhatsAppRedditTelegramEmailPrintLike this:Like Loading...
URL:https://cad-ray-wp-core.cospark.io/event/las-vegas-perio-study-club/
LOCATION:NV
CATEGORIES:Las Vegas Study Club
END:VEVENT
END:VCALENDAR