BEGIN:VCALENDAR
VERSION:2.0
PRODID:-//CAD-Ray.com - ECPv5.16.4//NONSGML v1.0//EN
CALSCALE:GREGORIAN
METHOD:PUBLISH
X-WR-CALNAME:CAD-Ray.com
X-ORIGINAL-URL:https://cad-ray-wp-core.cospark.io
X-WR-CALDESC:Events for CAD-Ray.com
REFRESH-INTERVAL;VALUE=DURATION:PT1H
X-Robots-Tag:noindex
X-PUBLISHED-TTL:PT1H
BEGIN:VTIMEZONE
TZID:America/Los_Angeles
BEGIN:DAYLIGHT
TZOFFSETFROM:-0800
TZOFFSETTO:-0700
TZNAME:PDT
DTSTART:20240310T100000
END:DAYLIGHT
BEGIN:STANDARD
TZOFFSETFROM:-0700
TZOFFSETTO:-0800
TZNAME:PST
DTSTART:20241103T090000
END:STANDARD
END:VTIMEZONE
BEGIN:VEVENT
DTSTART;TZID=America/Los_Angeles:20240125T080000
DTEND;TZID=America/Los_Angeles:20240126T170000
DTSTAMP:20260421T174010
CREATED:20230409T031630Z
LAST-MODIFIED:20230725T182144Z
UID:96986-1706169600-1706288400@cad-ray-wp-core.cospark.io
SUMMARY:Hawaii Dental Association Meeting - January 25-26 - 2024
DESCRIPTION:Hawaii Dental Association Convention 2024\nHawaii Convention Center Ballroom\nJanuary 25th at 7:00am – January 26th at 5:00pm\n\n\n\n\n\nBOOTH 029\n\n\n\n\n\n\n\n\nPlease Share this:TweetWhatsAppRedditTelegramEmailPrintLike this:Like Loading...
URL:https://cad-ray-wp-core.cospark.io/event/hawaii-dental-association-meeting-january-25-26-2024/
LOCATION:Hawaiʻi Convention Center\, 1801 Kalākaua Ave\, Honolulu\, HI\, 96815\, United States
CATEGORIES:Conventions
END:VEVENT
END:VCALENDAR