BEGIN:VCALENDAR
VERSION:2.0
PRODID:-//CAD-Ray.com - ECPv5.16.4//NONSGML v1.0//EN
CALSCALE:GREGORIAN
METHOD:PUBLISH
X-WR-CALNAME:CAD-Ray.com
X-ORIGINAL-URL:https://cad-ray-wp-core.cospark.io
X-WR-CALDESC:Events for CAD-Ray.com
REFRESH-INTERVAL;VALUE=DURATION:PT1H
X-Robots-Tag:noindex
X-PUBLISHED-TTL:PT1H
BEGIN:VTIMEZONE
TZID:America/Los_Angeles
BEGIN:DAYLIGHT
TZOFFSETFROM:-0800
TZOFFSETTO:-0700
TZNAME:PDT
DTSTART:20230312T100000
END:DAYLIGHT
BEGIN:STANDARD
TZOFFSETFROM:-0700
TZOFFSETTO:-0800
TZNAME:PST
DTSTART:20231105T090000
END:STANDARD
END:VTIMEZONE
BEGIN:VEVENT
DTSTART;TZID=America/Los_Angeles:20231005T090000
DTEND;TZID=America/Los_Angeles:20231007T170000
DTSTAMP:20260421T192602
CREATED:20230724T175646Z
LAST-MODIFIED:20230724T180119Z
UID:105631-1696496400-1696698000@cad-ray-wp-core.cospark.io
SUMMARY:ADA Smilecon
DESCRIPTION:link to show floor \n  \nPlease Share this:TweetWhatsAppRedditTelegramEmailPrintLike this:Like Loading...
URL:https://cad-ray-wp-core.cospark.io/event/ada-smilecon/
LOCATION:IL
CATEGORIES:Conventions
ATTACH;FMTTYPE=image/png:https://cad-ray-wp-core.cospark.io/wp-content/uploads/2023/07/smilecon.png
END:VEVENT
END:VCALENDAR